BEGIN:VCALENDAR
VERSION:2.0
PRODID:-//Squarespace Inc/Squarespace 6//v6//EN
BEGIN:VEVENT
UID:5e0eb8d49567dd14f4889511@squarespace.com
DTSTAMP:20201017T040448Z
DTSTART:20201018T130000Z
DTEND:20201018T170000Z
SUMMARY:Fuel For Life Workshop
END:VEVENT
END:VCALENDAR
