BEGIN:VCALENDAR
VERSION:2.0
PRODID:-//Squarespace Inc/Squarespace 6//v6//EN
BEGIN:VEVENT
UID:5f7027c5641b936671fcf49f@squarespace.com
DTSTAMP:20201114T044650Z
DTSTART:20201206T140000Z
DTEND:20201206T180000Z
SUMMARY:Courage Workshop
END:VEVENT
END:VCALENDAR
