BEGIN:VCALENDAR
VERSION:2.0
PRODID:-//Squarespace Inc/Squarespace 6//v6//EN
BEGIN:VEVENT
UID:5ed5e94a9aa8227ea8c43db9@squarespace.com
DTSTAMP:20200602T062829Z
DTSTART:20200610T003000Z
DTEND:20200610T013000Z
SUMMARY:Genki Good Chat virtual Cafe
END:VEVENT
END:VCALENDAR
